
BEGIN:VCALENDAR
VERSION:2.0
PRODID:-//wp-events-plugin.com//7.2.2.1//EN
TZID:Europe/Paris
X-WR-TIMEZONE:Europe/Paris
BEGIN:VEVENT
UID:397@saucats.fr
DTSTART;TZID=Europe/Paris;VALUE=DATE:20251019
DTEND;TZID=Europe/Paris;VALUE=DATE:20251020
DTSTAMP:20250916T125307Z
URL:https://www.saucats.fr/events/vide-grenier/
SUMMARY:Vide grenier
DESCRIPTION:Le vide Grenier de Music'Asso'Cats
ATTACH;FMTTYPE=image/jpeg:https://www.saucats.fr/wp-content/uploads/2025/0
 9/WhatsApp-Image-2025-09-16-a-14.41.21_18f60d06.jpg
CATEGORIES:Manifestation
LOCATION:Pré communal\, Allée Joseph Wresinski\, Saucats\, 33650\, France
X-APPLE-STRUCTURED-LOCATION;VALUE=URI;X-ADDRESS=Allée Joseph Wresinski\, S
 aucats\, 33650\, France;X-APPLE-RADIUS=100;X-TITLE=Pré communal:geo:0,0
END:VEVENT
BEGIN:VTIMEZONE
TZID:Europe/Paris
X-LIC-LOCATION:Europe/Paris
BEGIN:DAYLIGHT
DTSTART:20250330T030000
TZOFFSETFROM:+0100
TZOFFSETTO:+0200
TZNAME:CEST
END:DAYLIGHT
END:VTIMEZONE
END:VCALENDAR