
BEGIN:VCALENDAR
VERSION:2.0
PRODID:-//wp-events-plugin.com//7.2.2.1//EN
TZID:Europe/Paris
X-WR-TIMEZONE:Europe/Paris
BEGIN:VEVENT
UID:511@saucats.fr
DTSTART;TZID=Europe/Paris:20260308T090000
DTEND;TZID=Europe/Paris:20260308T130000
DTSTAMP:20260216T073829Z
URL:https://www.saucats.fr/events/stage-de-mma-avec-kamel-abbas-un-rendez-
 vous-a-ne-pas-manquer/
SUMMARY:Stage de MMA  avec Kamel ABBAS : un rendez-vous à ne pas manquer !
DESCRIPTION:Vous cherchez à découvrir ou à perfectionner vos techniques 
 en Arts Martiaux ? Ne manquez pas les stages intensifs de MMA animés par 
 Kamel ABBAS\, expert diplômé en sports de contact ! Ces sessions de 4 he
 ures sont accessibles à tous\, à partir de 13 ans\, et s’adaptent à t
 ous les niveaux\, que vous soyez débutant ou pratiquant confirmé.\n\nAu 
 programme : travail technique\, préparation physique et renforcement des 
 compétences dans une ambiance dynamique et conviviale. Tout cela pour un 
 tarif de 25 euros seulement !\n\nCes stages sont une occasion unique d’a
 pprendre auprès d’un professionnel reconnu et de progresser rapidement 
 dans la pratique du MMA. Que vous soyez déjà passionné ou seulement cur
 ieux\, n’attendez plus pour vous inscrire !\nPour plus d’informations\
 , contactez Kamel au 06.65.04.56.73 !\n\nhttps://www.helloasso.com/associa
 tions/gloves-explorer-kgx/evenements/stage-exceptionnel-mma-aux-arts-marti
 aux-saucats-avec-kamel
ATTACH;FMTTYPE=image/jpeg:https://www.saucats.fr/wp-content/uploads/2026/0
 2/STAGE-MMA-aux-Arts-Martiaux-Saucats-2-1.jpg
CATEGORIES:Sport
LOCATION:Dojo de La Ruche\, 1\, allée Montaigne\, Saucats\, 33650\, France
X-APPLE-STRUCTURED-LOCATION;VALUE=URI;X-ADDRESS=1\, allée Montaigne\, Sauc
 ats\, 33650\, France;X-APPLE-RADIUS=100;X-TITLE=Dojo de La Ruche:geo:0,0
END:VEVENT
BEGIN:VTIMEZONE
TZID:Europe/Paris
X-LIC-LOCATION:Europe/Paris
BEGIN:STANDARD
DTSTART:20251026T020000
TZOFFSETFROM:+0200
TZOFFSETTO:+0100
TZNAME:CET
END:STANDARD
END:VTIMEZONE
END:VCALENDAR