
BEGIN:VCALENDAR
VERSION:2.0
PRODID:-//wp-events-plugin.com//7.2.2.1//EN
TZID:Europe/Paris
X-WR-TIMEZONE:Europe/Paris
BEGIN:VEVENT
UID:557@saucats.fr
DTSTART;TZID=Europe/Paris:20260503T083000
DTEND;TZID=Europe/Paris:20260503T173000
DTSTAMP:20260306T181625Z
URL:https://www.saucats.fr/events/fete-des-plantes-4/
SUMMARY:Fête des Plantes
DESCRIPTION:La 22ème « Fête des plantes » organisée par notre associa
 tion Le Sambucus aura lieu le dimanche 3 mai 2026 de 8h30 à 17h30\, aux a
 bords du pré communal.\n70 exposants et associations prêts à conseiller
  les nombreux amoureux de jardinage sous toutes ses formes\, du carré jar
 dinier à créer au coin fleurs ou au verger seront présents cette année
 .\n\nElle sera aussi comme toujours un lieu pour flâner\, un lieu de renc
 ontre et de partage pour les familles et amis qui pourront profiter de la 
 présence de food-trucks et de nombreux producteurs du terroir girondin po
 ur se restaurer tout au long de la journée.\n\nLes enfants ne seront pas 
 oubliés\, ils pourront fabriquer sur place de magnifiques souvenirs ou ef
 fectuer des balades en poney.\n\nVous y trouverez la plante recherchée\, 
 des végétaux pour l'agrément\, le potager et plus encore les conseils a
 visés des pépiniéristes et les horticulteurs pour réussir leurs planta
 tions.\n\nDes exposants spécialisés dans la décoration\, l’amendement
  des jardins seront présents pour vous présenter leurs produits et\, eux
  aussi\, pour vous conseiller.\n\nDes associations de jardinage organisero
 nt des bourses aux graines et des ateliers de jardinage.\n\nDe nombreuses 
 associations locales seront elles aussi présentes à la fête pour vous m
 ontrer leurs activités ou leurs œuvres\, de quoi ravir les amoureux d’
 arts.\nL’entrée sera bien sûr gratuite\, et de nombreux parkings seron
 t proches du lieu de la fête\, un étant réservé aux personnes à mobil
 ité réduite.\nToutes les mesures de sécurité ou d’hygiène seront pr
 ises. Pour votre protection\, un poste de secours sera sur place.
ATTACH;FMTTYPE=image/jpeg:https://www.saucats.fr/wp-content/uploads/2026/0
 2/fete-des-plantes_inPixio.jpg
CATEGORIES:Bien-être,Exposition,Nature
LOCATION:Pré communal\, Allée Joseph Wresinski\, Saucats\, 33650\, France
X-APPLE-STRUCTURED-LOCATION;VALUE=URI;X-ADDRESS=Allée Joseph Wresinski\, S
 aucats\, 33650\, France;X-APPLE-RADIUS=100;X-TITLE=Pré communal:geo:0,0
END:VEVENT
BEGIN:VTIMEZONE
TZID:Europe/Paris
X-LIC-LOCATION:Europe/Paris
BEGIN:DAYLIGHT
DTSTART:20260329T030000
TZOFFSETFROM:+0100
TZOFFSETTO:+0200
TZNAME:CEST
END:DAYLIGHT
END:VTIMEZONE
END:VCALENDAR