
BEGIN:VCALENDAR
VERSION:2.0
PRODID:-//wp-events-plugin.com//7.2.2.1//EN
TZID:Europe/Paris
X-WR-TIMEZONE:Europe/Paris
BEGIN:VEVENT
UID:207@saucats.fr
DTSTART;TZID=Europe/Paris:20250504T100000
DTEND;TZID=Europe/Paris:20250504T170000
DTSTAMP:20250226T152057Z
URL:https://www.saucats.fr/events/fete-des-plantes-3/
SUMMARY:FETE DES PLANTES
DESCRIPTION:
ATTACH;FMTTYPE=image/jpeg:https://www.saucats.fr/wp-content/uploads/2024/0
 4/468596259_122128578746396165_3213558333276842428_n.jpg
CATEGORIES:Jeunesse
LOCATION:\, \, 
X-APPLE-STRUCTURED-LOCATION;VALUE=URI;X-ADDRESS=\, ;X-APPLE-RADIUS=100;X-TI
 TLE=:geo:0,0
END:VEVENT
BEGIN:VTIMEZONE
TZID:Europe/Paris
X-LIC-LOCATION:Europe/Paris
BEGIN:DAYLIGHT
DTSTART:20250330T030000
TZOFFSETFROM:+0100
TZOFFSETTO:+0200
TZNAME:CEST
END:DAYLIGHT
END:VTIMEZONE
END:VCALENDAR