
BEGIN:VCALENDAR
VERSION:2.0
PRODID:-//wp-events-plugin.com//7.2.2.1//EN
TZID:Europe/Paris
X-WR-TIMEZONE:Europe/Paris
BEGIN:VEVENT
UID:468@saucats.fr
DTSTART;TZID=Europe/Paris:20260307T193000
DTEND;TZID=Europe/Paris:20260307T213000
DTSTAMP:20251230T074555Z
URL:https://www.saucats.fr/events/apero-concert-malaka/
SUMMARY:Apéro-concert Malaka
DESCRIPTION:Après avoir assuré la première partie pour des artistes reno
 mmés comme Selah Sue\, Ayo\, Fatoumata Diawara\, Flavia Coelho ou encore 
 Faada Freddy\, Malaka vient nous offrir une expérience envoûtante où la
  simplicité révèle toute sa profondeur.\n\nLe duo\, porté par les voix
  singulières de deux sœurs\, propose une musique épurée mêlant folk e
 t soul.\n\nAvec Malaka\, la musique prend une nouvelle dimension\, où les
  voix fusionnent pour créer une expérience musicale envoûtante\, une te
 rre nouvelle sur laquelle s'aventurer.\n\nApéro-concert dans cadre des P
 ’tites scène de l’IDDAC.\n\nBilletterie sur Festik.net et sur place\n
 Il est conseillé d’arriver au moins 30 min avant le début de la repré
 sentation.\nLes portes seront fermées dès le début de la représentatio
 n. En cas de retard\, nous nous réservons le droit de refuser l’accès 
 à la salle car certains spectacles ne permettent pas les entrées en cour
 s de représentation.
ATTACH;FMTTYPE=image/jpeg:https://www.saucats.fr/wp-content/uploads/2025/1
 2/Malaka-scaled.jpg
CATEGORIES:Culture,La Ruche
LOCATION:La Ruche\, 1\, Allée Montesquieu\, Saucats\, GIRONDE\, 33650\, Aq
 uitaine\, France
X-APPLE-STRUCTURED-LOCATION;VALUE=URI;X-ADDRESS=1\, Allée Montesquieu\, Sa
 ucats\, GIRONDE\, 33650\, Aquitaine\, France;X-APPLE-RADIUS=100;X-TITLE=La
  Ruche:geo:0,0
END:VEVENT
BEGIN:VTIMEZONE
TZID:Europe/Paris
X-LIC-LOCATION:Europe/Paris
BEGIN:STANDARD
DTSTART:20251026T020000
TZOFFSETFROM:+0200
TZOFFSETTO:+0100
TZNAME:CET
END:STANDARD
END:VTIMEZONE
END:VCALENDAR